BEGIN:VCALENDAR
VERSION:2.0
PRODID:-//FrenchBIC - ECPv6.15.17.1//NONSGML v1.0//EN
CALSCALE:GREGORIAN
METHOD:PUBLISH
X-WR-CALNAME:FrenchBIC
X-ORIGINAL-URL:http://frenchbic.cnrs.fr
X-WR-CALDESC:Events for FrenchBIC
REFRESH-INTERVAL;VALUE=DURATION:PT1H
X-Robots-Tag:noindex
X-PUBLISHED-TTL:PT1H
BEGIN:VTIMEZONE
TZID:Europe/Paris
BEGIN:DAYLIGHT
TZOFFSETFROM:+0100
TZOFFSETTO:+0200
TZNAME:CEST
DTSTART:20230326T010000
END:DAYLIGHT
BEGIN:STANDARD
TZOFFSETFROM:+0200
TZOFFSETTO:+0100
TZNAME:CET
DTSTART:20231029T010000
END:STANDARD
BEGIN:DAYLIGHT
TZOFFSETFROM:+0100
TZOFFSETTO:+0200
TZNAME:CEST
DTSTART:20240331T010000
END:DAYLIGHT
BEGIN:STANDARD
TZOFFSETFROM:+0200
TZOFFSETTO:+0100
TZNAME:CET
DTSTART:20241027T010000
END:STANDARD
BEGIN:DAYLIGHT
TZOFFSETFROM:+0100
TZOFFSETTO:+0200
TZNAME:CEST
DTSTART:20250330T010000
END:DAYLIGHT
BEGIN:STANDARD
TZOFFSETFROM:+0200
TZOFFSETTO:+0100
TZNAME:CET
DTSTART:20251026T010000
END:STANDARD
END:VTIMEZONE
BEGIN:VEVENT
DTSTART;VALUE=DATE:20240710
DTEND;VALUE=DATE:20240713
DTSTAMP:20260422T060311
CREATED:20231023T121009Z
LAST-MODIFIED:20231108T145558Z
UID:68859-1720569600-1720828799@frenchbic.cnrs.fr
SUMMARY:Second Metal-Binding Peptides (MBP) Conference
DESCRIPTION:The main theme of this international conference is peptides and derived molecules and their interactions with metal ions. Several areas of research will be addressed: health\, environment\, catalysis\, supramolecular chemistry
URL:http://frenchbic.cnrs.fr/event/metal-binding-peptides-conference/
LOCATION:Toulouse\, Toulouse\, France
CATEGORIES:In France
END:VEVENT
BEGIN:VEVENT
DTSTART;VALUE=DATE:20240714
DTEND;VALUE=DATE:20240720
DTSTAMP:20260422T060311
CREATED:20230308T164505Z
LAST-MODIFIED:20230308T164505Z
UID:65054-1720915200-1721433599@frenchbic.cnrs.fr
SUMMARY:18th ICC - International Congress on Catalysis
DESCRIPTION:“ROOTS AND WINGS FOR A BETTER WORLD”
URL:http://frenchbic.cnrs.fr/event/18th-icc-international-congress-on-catalysis/
LOCATION:Lyon\, Lyon\, France
CATEGORIES:In France
END:VEVENT
END:VCALENDAR