BEGIN:VCALENDAR
VERSION:2.0
PRODID:-//FrenchBIC - ECPv6.15.17.1//NONSGML v1.0//EN
CALSCALE:GREGORIAN
METHOD:PUBLISH
X-ORIGINAL-URL:http://frenchbic.cnrs.fr
X-WR-CALDESC:Events for FrenchBIC
REFRESH-INTERVAL;VALUE=DURATION:PT1H
X-Robots-Tag:noindex
X-PUBLISHED-TTL:PT1H
BEGIN:VTIMEZONE
TZID:Europe/Paris
BEGIN:DAYLIGHT
TZOFFSETFROM:+0100
TZOFFSETTO:+0200
TZNAME:CEST
DTSTART:20230326T010000
END:DAYLIGHT
BEGIN:STANDARD
TZOFFSETFROM:+0200
TZOFFSETTO:+0100
TZNAME:CET
DTSTART:20231029T010000
END:STANDARD
BEGIN:DAYLIGHT
TZOFFSETFROM:+0100
TZOFFSETTO:+0200
TZNAME:CEST
DTSTART:20240331T010000
END:DAYLIGHT
BEGIN:STANDARD
TZOFFSETFROM:+0200
TZOFFSETTO:+0100
TZNAME:CET
DTSTART:20241027T010000
END:STANDARD
BEGIN:DAYLIGHT
TZOFFSETFROM:+0100
TZOFFSETTO:+0200
TZNAME:CEST
DTSTART:20250330T010000
END:DAYLIGHT
BEGIN:STANDARD
TZOFFSETFROM:+0200
TZOFFSETTO:+0100
TZNAME:CET
DTSTART:20251026T010000
END:STANDARD
END:VTIMEZONE
BEGIN:VEVENT
DTSTART;VALUE=DATE:20240526
DTEND;VALUE=DATE:20240603
DTSTAMP:20260422T044331
CREATED:20240207T223052Z
LAST-MODIFIED:20240207T223052Z
UID:74071-1716681600-1717372799@frenchbic.cnrs.fr
SUMMARY:FEBS course - Metals in biology: their importance and tools to study them
DESCRIPTION:
URL:http://frenchbic.cnrs.fr/event/febs-course-metals-in-biology-their-importance-and-tools-to-study-them/
LOCATION:Carcavelos and Oeiras\, Carcavelos\, Portugal
CATEGORIES:Abroad,Schools
END:VEVENT
BEGIN:VEVENT
DTSTART;VALUE=DATE:20240602
DTEND;VALUE=DATE:20240608
DTSTAMP:20260422T044331
CREATED:20231121T202400Z
LAST-MODIFIED:20231121T202504Z
UID:69704-1717286400-1717804799@frenchbic.cnrs.fr
SUMMARY:International Conference of Coordination and Bioinorganic Chemistry (ICCBIC)
DESCRIPTION:It’s our pleasure to invite you to participate in the XXIX. International Conference of Coordination and Bioinorganic Chemistry (ICCBIC) which is organized by Slovak University of Technology and Slovak Academy of Sciences and will be held at Castle of Smolenice\, Slovakia during
URL:http://frenchbic.cnrs.fr/event/international-conference-of-coordination-and-bioinorganic-chemistry-iccbic/
LOCATION:Smolenice\, Smolenice\, Slovakia (Slovak Republic)
CATEGORIES:Abroad
END:VEVENT
BEGIN:VEVENT
DTSTART;VALUE=DATE:20240603
DTEND;VALUE=DATE:20240608
DTSTAMP:20260422T044331
CREATED:20230825T154625Z
LAST-MODIFIED:20240208T142744Z
UID:68731-1717372800-1717804799@frenchbic.cnrs.fr
SUMMARY:XI International Conference on Fe-S Proteins
DESCRIPTION:Dear Colleagues\, \nThe XI International Conference on Fe-S Proteins: Function\, Biogenesis\, and Regulation will be held June 3-7/2024\, at Wake Forest University in Winston-Salem\, NC\, USA. \nThe first ten meetings of this conference series have attracted 120-150 participants from all over the world and from a range of research disciplines\, including chemists\, biochemists\, spectroscopists\, molecular biologists\, geneticists\, and physicians. Previous meetings have been held in alternating locations in the US and Europe every two years and included Virginia Tech\, Blacksburg\, VA (2000)\, U. of Marburg\, Marburg\, DE (2002)\, U. of Wisconsin\, Madison\, WI (2005 and 2018)\, Villard de Lans\, France (2007)\, U. of Georgia\, Athens\, GA (2009)\, Girton College\, Cambridge\, UK (2011)\, U. of South Carolina\, Columbia\, SC (2013)\, Bergamo\, Italy (2015)\, Gulf of St Tropez\, St. Maxine\, France (2022). \nThe upcoming meeting in 2024  will focus on 1)  sulfur mobilization and iron trafficking\, 2) Fe-S cluster assembly and trafficking\, 3) Fe-S clusters as sensors and regulators\, 4) Fe-S proteins structure and function\, 5) applications of Fe-S clusters in medicine\, biotechnology\, and industry. The program will include talks from invited speakers and several speakers selected from abstracts. We will also take time to honor the distinguished careers and legacies of Professors Dennis Dean and Roland Lill. \n  Additional details and website information for registration will be shared later this year.  Until then\, save the date for June 3-7/2024. \nWe are looking forward to interreacting with you in Winston-Salem. \nBest wishes\, \nPatricia Dos Santos and Jeff Boyd
URL:http://frenchbic.cnrs.fr/event/xi-international-conference-on-fe-s-proteins/
LOCATION:Wake Forest University\, Wake Forest University\, Winston-Salem\, NC\, United States
CATEGORIES:Abroad
END:VEVENT
BEGIN:VEVENT
DTSTART;VALUE=DATE:20240608
DTEND;VALUE=DATE:20240615
DTSTAMP:20260422T044331
CREATED:20231005T080513Z
LAST-MODIFIED:20231005T080513Z
UID:68798-1717804800-1718409599@frenchbic.cnrs.fr
SUMMARY:Gordon Research Conference and Seminar – Metallocofactors
DESCRIPTION:Metallocofactors\nCatalysts for Processing the Elements of Life \nJune 9th – June 14th\nStonehill College \nChairs: Kyle M. Lancaster\nLink: 2024 Metallocofactors Conference GRC \nLeveraging the Power of Metals for Catalysis of Life \nJune 8th – June 9th\nStonehill College \nChairs: Melissa Bollmeyer\nLink: 2024 Metallocofactors (GRS) Seminar GRC
URL:http://frenchbic.cnrs.fr/event/gordon-research-conference-and-seminar-metallocofactors/
LOCATION:Stonehill College\, Easton\, MA\, United States
CATEGORIES:Abroad
END:VEVENT
BEGIN:VEVENT
DTSTART;VALUE=DATE:20240630
DTEND;VALUE=DATE:20240705
DTSTAMP:20260422T044331
CREATED:20240402T161314Z
LAST-MODIFIED:20240402T161314Z
UID:74233-1719705600-1720137599@frenchbic.cnrs.fr
SUMMARY:International Symposium on Activation of Dioxygen and Homogeneous Oxidation
DESCRIPTION:Invited speakers: Costas\, Debeer\, Arnold\, Kojima\, Limberg\, …. \ndeadline abstract: April\, 15\, 2024
URL:http://frenchbic.cnrs.fr/event/international-symposium-on-activation-of-dioxygen-and-homogeneous-oxidation/
LOCATION:Venice\, Venice\, Italy
CATEGORIES:Abroad
END:VEVENT
END:VCALENDAR